BEGIN:VCALENDAR
VERSION:2.0
PRODID:-//Ridgefield Tigers Baseball Booster Club - ECPv6.10.1.1//NONSGML v1.0//EN
CALSCALE:GREGORIAN
METHOD:PUBLISH
X-ORIGINAL-URL:https://ridgefieldtigers.com
X-WR-CALDESC:Events for Ridgefield Tigers Baseball Booster Club
REFRESH-INTERVAL;VALUE=DURATION:PT1H
X-Robots-Tag:noindex
X-PUBLISHED-TTL:PT1H
BEGIN:VTIMEZONE
TZID:America/New_York
BEGIN:DAYLIGHT
TZOFFSETFROM:-0500
TZOFFSETTO:-0400
TZNAME:EDT
DTSTART:20250309T070000
END:DAYLIGHT
BEGIN:STANDARD
TZOFFSETFROM:-0400
TZOFFSETTO:-0500
TZNAME:EST
DTSTART:20251102T060000
END:STANDARD
END:VTIMEZONE
BEGIN:VEVENT
DTSTART;VALUE=DATE:20250503
DTEND;VALUE=DATE:20250504
DTSTAMP:20260424T222624
CREATED:20250226T162814Z
LAST-MODIFIED:20250427T165026Z
UID:191-1746230400-1746316799@ridgefieldtigers.com
SUMMARY:RESCHEDULED - Ridgefield Little League Opening Day Ceremony for RHS Players
DESCRIPTION:Come join fellow RHS players as they distribute their baseball cards at the current Ridgefield Little Leauge kickoff.  Following the Opening Day Ceremony\, all Tee Ball and Coach-Pitch teams will have their first sessions in the outfield of Ciuccoli Field.
URL:https://ridgefieldtigers.com/event/rll-opening-day-ceremony-for-rhs-players/
LOCATION:Governor Park & Ciuccoli Field\, 84 Governor Street\, Ridgefield\, CT\, 06877\, United States
END:VEVENT
BEGIN:VEVENT
DTSTART;VALUE=DATE:20250509
DTEND;VALUE=DATE:20250510
DTSTAMP:20260424T222624
CREATED:20250310T182305Z
LAST-MODIFIED:20250427T164941Z
UID:201-1746748800-1746835199@ridgefieldtigers.com
SUMMARY:Senior Night (NEW DATE)
DESCRIPTION:
URL:https://ridgefieldtigers.com/event/senior-night/
END:VEVENT
BEGIN:VEVENT
DTSTART;VALUE=DATE:20250509
DTEND;VALUE=DATE:20250512
DTSTAMP:20260424T222624
CREATED:20250225T165824Z
LAST-MODIFIED:20250225T165824Z
UID:179-1746748800-1747007999@ridgefieldtigers.com
SUMMARY:RHS Baseball Alumni Weekend
DESCRIPTION:Fri May 9th RHS V ball game at OHS.\nSat May 10th Alumni Softball game at OHS.\nSun May 11th Golf outing.
URL:https://ridgefieldtigers.com/event/rhs-baseball-alumni-weekend/
END:VEVENT
END:VCALENDAR