BEGIN:VCALENDAR
VERSION:2.0
PRODID:-//Ridgefield Tigers Baseball Booster Club - ECPv6.10.1.1//NONSGML v1.0//EN
CALSCALE:GREGORIAN
METHOD:PUBLISH
X-WR-CALNAME:Ridgefield Tigers Baseball Booster Club
X-ORIGINAL-URL:https://ridgefieldtigers.com
X-WR-CALDESC:Events for Ridgefield Tigers Baseball Booster Club
REFRESH-INTERVAL;VALUE=DURATION:PT1H
X-Robots-Tag:noindex
X-PUBLISHED-TTL:PT1H
BEGIN:VTIMEZONE
TZID:America/New_York
BEGIN:DAYLIGHT
TZOFFSETFROM:-0500
TZOFFSETTO:-0400
TZNAME:EDT
DTSTART:20250309T070000
END:DAYLIGHT
BEGIN:STANDARD
TZOFFSETFROM:-0400
TZOFFSETTO:-0500
TZNAME:EST
DTSTART:20251102T060000
END:STANDARD
END:VTIMEZONE
BEGIN:VEVENT
DTSTART;TZID=America/New_York:20250406T160000
DTEND;TZID=America/New_York:20250406T170000
DTSTAMP:20260424T235824
CREATED:20250225T165139Z
LAST-MODIFIED:20250325T212015Z
UID:175-1743955200-1743958800@ridgefieldtigers.com
SUMMARY:Leading Edge Dialathon
DESCRIPTION:Mandatory meeting for all players on Freshman\, JV\, and Varsity teams.  RHS Room F202
URL:https://ridgefieldtigers.com/event/leading-edge-dialathon/
LOCATION:Ridgefield High School\, 700 N Salem Rd\, Ridgefield\, CT\, 06877\, United States
END:VEVENT
END:VCALENDAR