BEGIN:VCALENDAR
VERSION:2.0
PRODID:-//Ridgefield Tigers Baseball Booster Club - ECPv6.10.1.1//NONSGML v1.0//EN
CALSCALE:GREGORIAN
METHOD:PUBLISH
X-WR-CALNAME:Ridgefield Tigers Baseball Booster Club
X-ORIGINAL-URL:https://ridgefieldtigers.com
X-WR-CALDESC:Events for Ridgefield Tigers Baseball Booster Club
REFRESH-INTERVAL;VALUE=DURATION:PT1H
X-Robots-Tag:noindex
X-PUBLISHED-TTL:PT1H
BEGIN:VTIMEZONE
TZID:America/New_York
BEGIN:DAYLIGHT
TZOFFSETFROM:-0500
TZOFFSETTO:-0400
TZNAME:EDT
DTSTART:20250309T070000
END:DAYLIGHT
BEGIN:STANDARD
TZOFFSETFROM:-0400
TZOFFSETTO:-0500
TZNAME:EST
DTSTART:20251102T060000
END:STANDARD
BEGIN:DAYLIGHT
TZOFFSETFROM:-0500
TZOFFSETTO:-0400
TZNAME:EDT
DTSTART:20260308T070000
END:DAYLIGHT
BEGIN:STANDARD
TZOFFSETFROM:-0400
TZOFFSETTO:-0500
TZNAME:EST
DTSTART:20261101T060000
END:STANDARD
END:VTIMEZONE
BEGIN:VEVENT
DTSTART;VALUE=DATE:20250503
DTEND;VALUE=DATE:20250504
DTSTAMP:20260425T100312
CREATED:20250226T162814Z
LAST-MODIFIED:20250427T165026Z
UID:191-1746230400-1746316799@ridgefieldtigers.com
SUMMARY:RESCHEDULED - Ridgefield Little League Opening Day Ceremony for RHS Players
DESCRIPTION:Come join fellow RHS players as they distribute their baseball cards at the current Ridgefield Little Leauge kickoff.  Following the Opening Day Ceremony\, all Tee Ball and Coach-Pitch teams will have their first sessions in the outfield of Ciuccoli Field.
URL:https://ridgefieldtigers.com/event/rll-opening-day-ceremony-for-rhs-players/
LOCATION:Governor Park & Ciuccoli Field\, 84 Governor Street\, Ridgefield\, CT\, 06877\, United States
END:VEVENT
BEGIN:VEVENT
DTSTART;VALUE=DATE:20250509
DTEND;VALUE=DATE:20250510
DTSTAMP:20260425T100312
CREATED:20250310T182305Z
LAST-MODIFIED:20250427T164941Z
UID:201-1746748800-1746835199@ridgefieldtigers.com
SUMMARY:Senior Night (NEW DATE)
DESCRIPTION:
URL:https://ridgefieldtigers.com/event/senior-night/
END:VEVENT
BEGIN:VEVENT
DTSTART;VALUE=DATE:20250509
DTEND;VALUE=DATE:20250512
DTSTAMP:20260425T100312
CREATED:20250225T165824Z
LAST-MODIFIED:20250225T165824Z
UID:179-1746748800-1747007999@ridgefieldtigers.com
SUMMARY:RHS Baseball Alumni Weekend
DESCRIPTION:Fri May 9th RHS V ball game at OHS.\nSat May 10th Alumni Softball game at OHS.\nSun May 11th Golf outing.
URL:https://ridgefieldtigers.com/event/rhs-baseball-alumni-weekend/
END:VEVENT
BEGIN:VEVENT
DTSTART;TZID=America/New_York:20250610T183000
DTEND;TZID=America/New_York:20250610T213000
DTSTAMP:20260425T100312
CREATED:20250225T172555Z
LAST-MODIFIED:20250225T172627Z
UID:186-1749580200-1749591000@ridgefieldtigers.com
SUMMARY:RHS Baseball Banquet
DESCRIPTION:Come enjoy a celebration of the RHS Baseball Season with players\, parents\, and coaches at the Redding Country Club.
URL:https://ridgefieldtigers.com/event/rhs-baseball-banquet/
LOCATION:Redding Country Club\, 109 Lonetown Rd\, Redding\, CT\, 06896\, United States
END:VEVENT
BEGIN:VEVENT
DTSTART;VALUE=DATE:20260102
DTEND;VALUE=DATE:20260103
DTSTAMP:20260425T100312
CREATED:20251203T200856Z
LAST-MODIFIED:20251203T200856Z
UID:252-1767312000-1767398399@ridgefieldtigers.com
SUMMARY:Winter Workouts Begin
DESCRIPTION:Winter workouts begin\, with Freshman/Sophomore and Junior/Senior workout schedules.
URL:https://ridgefieldtigers.com/event/winter-workouts-begin/
END:VEVENT
BEGIN:VEVENT
DTSTART;VALUE=DATE:20260314
DTEND;VALUE=DATE:20260321
DTSTAMP:20260425T100312
CREATED:20251117T010314Z
LAST-MODIFIED:20251117T010314Z
UID:238-1773446400-1774051199@ridgefieldtigers.com
SUMMARY:Pitchers and Catchers
DESCRIPTION:Pitchers and Catchers report (Invite Only)
URL:https://ridgefieldtigers.com/event/pitchers-and-catchers/
END:VEVENT
BEGIN:VEVENT
DTSTART;VALUE=DATE:20260321
DTEND;VALUE=DATE:20260324
DTSTAMP:20260425T100312
CREATED:20251117T010448Z
LAST-MODIFIED:20251117T012355Z
UID:240-1774051200-1774310399@ridgefieldtigers.com
SUMMARY:RHS Baseball Tryouts
DESCRIPTION:The coaching staff will communicate with the players regarding the weekend tryout schedule through the sportsYou app after hearing from Parks and Recs on availability.
URL:https://ridgefieldtigers.com/event/tryouts/
END:VEVENT
BEGIN:VEVENT
DTSTART;TZID=America/New_York:20260324T190000
DTEND;TZID=America/New_York:20260324T200000
DTSTAMP:20260425T100312
CREATED:20251117T010837Z
LAST-MODIFIED:20260312T141125Z
UID:242-1774378800-1774382400@ridgefieldtigers.com
SUMMARY:First Pitch Dinner
DESCRIPTION:The First Pitch Dinner will be held on Tuesday\, March 24\, at 7:00 p.m. at Ridgefield High School\, for players selected for all three teams and their families.
URL:https://ridgefieldtigers.com/event/first-pitch-dinner/
LOCATION:Ridgefield High School\, 700 N Salem Rd\, Ridgefield\, CT\, 06877\, United States
END:VEVENT
BEGIN:VEVENT
DTSTART;VALUE=DATE:20260329
DTEND;VALUE=DATE:20260330
DTSTAMP:20260425T100312
CREATED:20260131T160603Z
LAST-MODIFIED:20260203T155649Z
UID:255-1774742400-1774828799@ridgefieldtigers.com
SUMMARY:Picture Day and All Team Meeting
DESCRIPTION:
URL:https://ridgefieldtigers.com/event/picture-day-and-fundraising-tentative/
END:VEVENT
BEGIN:VEVENT
DTSTART;VALUE=DATE:20260404
DTEND;VALUE=DATE:20260413
DTSTAMP:20260425T100312
CREATED:20251117T012241Z
LAST-MODIFIED:20251117T012241Z
UID:247-1775260800-1776038399@ridgefieldtigers.com
SUMMARY:SPRING RECESS EVENTS
DESCRIPTION:Please be aware that the RHS Tigers practice and have games during the Spring Recess from April 4th through 12th.   Coaches will communicate the exact schedule through the YouSports App.
URL:https://ridgefieldtigers.com/event/spring-recess-events/
END:VEVENT
BEGIN:VEVENT
DTSTART;TZID=America/New_York:20260408T110000
DTEND;TZID=America/New_York:20260408T123000
DTSTAMP:20260425T100312
CREATED:20260312T135825Z
LAST-MODIFIED:20260312T135825Z
UID:267-1775646000-1775651400@ridgefieldtigers.com
SUMMARY:Fundraising Event
DESCRIPTION:
URL:https://ridgefieldtigers.com/event/fundraising-event/
END:VEVENT
BEGIN:VEVENT
DTSTART;TZID=America/New_York:20260411T150000
DTEND;TZID=America/New_York:20260411T170000
DTSTAMP:20260425T100312
CREATED:20260203T155946Z
LAST-MODIFIED:20260204T150247Z
UID:258-1775919600-1775926800@ridgefieldtigers.com
SUMMARY:Game at Dunkin' Park
DESCRIPTION:
URL:https://ridgefieldtigers.com/event/game-at-dunkin-park/
LOCATION:Dunkin’ Park\, 1214 Main St\, Hartford\, CT\, 06103\, United States
END:VEVENT
BEGIN:VEVENT
DTSTART;TZID=America/New_York:20260425T080000
DTEND;TZID=America/New_York:20260425T170000
DTSTAMP:20260425T100312
CREATED:20260204T150351Z
LAST-MODIFIED:20260204T150351Z
UID:261-1777104000-1777136400@ridgefieldtigers.com
SUMMARY:Ridgefield Little League Opening Day
DESCRIPTION:Join the RLL\, as players greet the next generation of Tiger Baseball Players and pass along those collectible cards!
URL:https://ridgefieldtigers.com/event/ridgefield-little-league-opening-day/
END:VEVENT
BEGIN:VEVENT
DTSTART;TZID=America/New_York:20260515T160000
DTEND;TZID=America/New_York:20260515T163000
DTSTAMP:20260425T100312
CREATED:20251117T011334Z
LAST-MODIFIED:20251117T011334Z
UID:244-1778860800-1778862600@ridgefieldtigers.com
SUMMARY:Senior Night - TENTATIVE
DESCRIPTION:Senior Night is currently not scheduled – but potential game dates are: \n\nFriday 5/15 4:30PM\nMonday 5/18 4:30 PM\nWednesday 5/20 4:30 PM\n\n 
URL:https://ridgefieldtigers.com/event/senior-night-tentative/
LOCATION:Governor Park & Ciuccoli Field\, 84 Governor Street\, Ridgefield\, CT\, 06877\, United States
END:VEVENT
BEGIN:VEVENT
DTSTART;TZID=America/New_York:20260615T080000
DTEND;TZID=America/New_York:20260615T170000
DTSTAMP:20260425T100312
CREATED:20260204T222642Z
LAST-MODIFIED:20260204T222642Z
UID:263-1781510400-1781542800@ridgefieldtigers.com
SUMMARY:Baseball Banquet - TENTATIVE DATE
DESCRIPTION:We have not yet selected a date for the Baseball Banquet
URL:https://ridgefieldtigers.com/event/baseball-banquet-tentative-date/
END:VEVENT
END:VCALENDAR